BEGIN:VCALENDAR
VERSION:2.0
PRODID:-//ZContent.net//ZapCalLib 1.0//EN
CALSCALE:GREGORIAN
METHOD:PUBLISH
BEGIN:VEVENT
UID:69e5fc11404cc@usbands.org
SUMMARY:North Brunswick High School
DTSTART:20231007T145000
DTEND:20231007T190000
DTSTAMP:20260420T101233
LOCATION:North Brunswick Township\, NJ
DESCRIPTION:North Brunswick High School
END:VEVENT
END:VCALENDAR
