BEGIN:VCALENDAR
VERSION:2.0
PRODID:-//ZContent.net//ZapCalLib 1.0//EN
CALSCALE:GREGORIAN
METHOD:PUBLISH
BEGIN:VEVENT
UID:69e5fbd1ee13b@usbands.org
SUMMARY:Absegami High School
DTSTART:20230916T145000
DTEND:20230916T180000
DTSTAMP:20260420T101129
LOCATION:Galloway\, NJ
DESCRIPTION:Absegami High School
END:VEVENT
END:VCALENDAR
