BEGIN:VCALENDAR
VERSION:2.0
PRODID:-//ZContent.net//ZapCalLib 1.0//EN
CALSCALE:GREGORIAN
METHOD:PUBLISH
BEGIN:VEVENT
UID:69e5fbd80b3ea@usbands.org
SUMMARY:New Milford High School
DTSTART:20230916T145000
DTEND:20230916T180000
DTSTAMP:20260420T101136
LOCATION:New Milford\, CT
DESCRIPTION:New Milford High School
END:VEVENT
END:VCALENDAR
