BEGIN:VCALENDAR
VERSION:2.0
PRODID:-//ZContent.net//ZapCalLib 1.0//EN
CALSCALE:GREGORIAN
METHOD:PUBLISH
BEGIN:VEVENT
UID:69e5fbd3b41cf@usbands.org
SUMMARY:Patuxent High School
DTSTART:20230916T085000
DTEND:20230916T150100
DTSTAMP:20260420T101131
LOCATION:Lusby\, MD
DESCRIPTION:Patuxent High School
END:VEVENT
END:VCALENDAR
