BEGIN:VCALENDAR
VERSION:2.0
PRODID:-//ZContent.net//ZapCalLib 1.0//EN
CALSCALE:GREGORIAN
METHOD:PUBLISH
BEGIN:VEVENT
UID:69e6130c223b2@usbands.org
SUMMARY:CANCELED - Pequannock Township High School
DTSTART:20230923T135000
DTEND:20230923T190000
DTSTAMP:20260420T115036
LOCATION:Pompton Plains\, NJ
DESCRIPTION:CANCELED - Pequannock Township High School
END:VEVENT
END:VCALENDAR
