BEGIN:VCALENDAR
VERSION:2.0
PRODID:-//ZContent.net//ZapCalLib 1.0//EN
CALSCALE:GREGORIAN
METHOD:PUBLISH
BEGIN:VEVENT
UID:69e5fbd6c498a@usbands.org
SUMMARY:Central Bucks High School East
DTSTART:20230909T085000
DTEND:20230909T190100
DTSTAMP:20260420T101134
LOCATION:Doylestown\, PA
DESCRIPTION:Central Bucks High School East
END:VEVENT
END:VCALENDAR
