BEGIN:VCALENDAR
VERSION:2.0
PRODID:-//ZContent.net//ZapCalLib 1.0//EN
CALSCALE:GREGORIAN
METHOD:PUBLISH
BEGIN:VEVENT
UID:69e6130c13c88@usbands.org
SUMMARY:Caldwell High School
DTSTART:20230930T105000
DTEND:20230930T200100
DTSTAMP:20260420T115036
LOCATION:Caldwell\, ID
DESCRIPTION:Caldwell High School
END:VEVENT
END:VCALENDAR
