BEGIN:VCALENDAR
VERSION:2.0
PRODID:-//ZContent.net//ZapCalLib 1.0//EN
CALSCALE:GREGORIAN
METHOD:PUBLISH
BEGIN:VEVENT
UID:69e5fbd17808d@usbands.org
SUMMARY:Kuna High School
DTSTART:20231007T105000
DTEND:20231007T200100
DTSTAMP:20260420T101129
LOCATION:Kuna\, ID
DESCRIPTION:Kuna High School
END:VEVENT
END:VCALENDAR
