BEGIN:VCALENDAR
VERSION:2.0
PRODID:-//ZContent.net//ZapCalLib 1.0//EN
CALSCALE:GREGORIAN
METHOD:PUBLISH
BEGIN:VEVENT
UID:69e5fbd3ca129@usbands.org
SUMMARY:Dartmouth High School
DTSTART:20230930T152000
DTEND:20230930T190000
DTSTAMP:20260420T101131
LOCATION:Dartmouth\, MA
DESCRIPTION:Dartmouth High School
END:VEVENT
END:VCALENDAR
