BEGIN:VCALENDAR
VERSION:2.0
PRODID:-//ZContent.net//ZapCalLib 1.0//EN
CALSCALE:GREGORIAN
METHOD:PUBLISH
BEGIN:VEVENT
UID:69e5fbd389037@usbands.org
SUMMARY:Hanover Park High School
DTSTART:20230930T115000
DTEND:20230930T150000
DTSTAMP:20260420T101131
LOCATION:East Hanover\, NJ
DESCRIPTION:Hanover Park High School
END:VEVENT
END:VCALENDAR
