BEGIN:VCALENDAR
VERSION:2.0
PRODID:-//ZContent.net//ZapCalLib 1.0//EN
CALSCALE:GREGORIAN
METHOD:PUBLISH
BEGIN:VEVENT
UID:69e5fbb273fff@usbands.org
SUMMARY:East Lyme High School
DTSTART:20230916T145000
DTEND:20230916T190100
DTSTAMP:20260420T101058
LOCATION:East Lyme\, CT
DESCRIPTION:East Lyme High School
END:VEVENT
END:VCALENDAR
