BEGIN:VCALENDAR
VERSION:2.0
PRODID:-//ZContent.net//ZapCalLib 1.0//EN
CALSCALE:GREGORIAN
METHOD:PUBLISH
BEGIN:VEVENT
UID:69e5fbd7bc2d3@usbands.org
SUMMARY:New Oxford HS Clinic
DTSTART:20230916T105000
DTEND:20230916T190100
DTSTAMP:20260420T101135
LOCATION:New Oxford\, PA
DESCRIPTION:New Oxford HS Clinic
END:VEVENT
END:VCALENDAR
