BEGIN:VCALENDAR
VERSION:2.0
PRODID:-//ZContent.net//ZapCalLib 1.0//EN
CALSCALE:GREGORIAN
METHOD:PUBLISH
BEGIN:VEVENT
UID:69e5fbd736d66@usbands.org
SUMMARY:Shawnee High School
DTSTART:20230930T145000
DTEND:20230930T190100
DTSTAMP:20260420T101135
LOCATION:Medford\, NJ
DESCRIPTION:Shawnee High School
END:VEVENT
END:VCALENDAR
