BEGIN:VCALENDAR
VERSION:2.0
PRODID:-//ZContent.net//ZapCalLib 1.0//EN
CALSCALE:GREGORIAN
METHOD:PUBLISH
BEGIN:VEVENT
UID:69e5fbd344f6b@usbands.org
SUMMARY:New England States Championships (III A\, IV A\, V A\, Open)
DTSTART:20231028T080000
DTEND:20231028T190000
DTSTAMP:20260420T101131
LOCATION:New Britain\, CT
DESCRIPTION:New England States Championships (III A\, IV A\, V A\, Open)
END:VEVENT
END:VCALENDAR
