BEGIN:VCALENDAR
VERSION:2.0
PRODID:-//ZContent.net//ZapCalLib 1.0//EN
CALSCALE:GREGORIAN
METHOD:PUBLISH
BEGIN:VEVENT
UID:69e6130c25a63@usbands.org
SUMMARY:New Jersey State Championships (I A\, III A\, IV A\, III O\, IV O)
DTSTART:20231028T073000
DTEND:20231028T190000
DTSTAMP:20260420T115036
LOCATION:Old Bridge\, NJ
DESCRIPTION:New Jersey State Championships (I A\, III A\, IV A\, III O\, IV
  O)
END:VEVENT
END:VCALENDAR
