BEGIN:VCALENDAR
VERSION:2.0
PRODID:-//ZContent.net//ZapCalLib 1.0//EN
CALSCALE:GREGORIAN
METHOD:PUBLISH
BEGIN:VEVENT
UID:69e5fbd16d717@usbands.org
SUMMARY:Maryland & Virginia State Championships
DTSTART:20231028T120000
DTEND:20231028T180000
DTSTAMP:20260420T101129
LOCATION:Owings Mills\, MD
DESCRIPTION:Maryland & Virginia State Championships
END:VEVENT
END:VCALENDAR
