BEGIN:VCALENDAR
VERSION:2.0
PRODID:-//ZContent.net//ZapCalLib 1.0//EN
CALSCALE:GREGORIAN
METHOD:PUBLISH
BEGIN:VEVENT
UID:69e5fbd7d2af7@usbands.org
SUMMARY:Mid-Atlantic Regional
DTSTART:20231028T090000
DTEND:20231028T190000
DTSTAMP:20260420T101135
LOCATION:Camp Hill\, PA
DESCRIPTION:Mid-Atlantic Regional
END:VEVENT
END:VCALENDAR
