BEGIN:VCALENDAR
VERSION:2.0
PRODID:-//ZContent.net//ZapCalLib 1.0//EN
CALSCALE:GREGORIAN
METHOD:PUBLISH
BEGIN:VEVENT
UID:69e5fbd177f20@usbands.org
SUMMARY:Quad States Regional Championships
DTSTART:20231021T070000
DTEND:20231021T190000
DTSTAMP:20260420T101129
LOCATION:Vermillion\, SD
DESCRIPTION:Quad States Regional Championships
END:VEVENT
END:VCALENDAR
