BEGIN:VCALENDAR
VERSION:2.0
PRODID:-//ZContent.net//ZapCalLib 1.0//EN
CALSCALE:GREGORIAN
METHOD:PUBLISH
BEGIN:VEVENT
UID:69e5fbd578c09@usbands.org
SUMMARY:Central Bucks High School South
DTSTART:20230930T110000
DTEND:20230930T191100
DTSTAMP:20260420T101133
LOCATION:Warrington\, PA
DESCRIPTION:Central Bucks High School South
END:VEVENT
END:VCALENDAR
