BEGIN:VCALENDAR
VERSION:2.0
PRODID:-//ZContent.net//ZapCalLib 1.0//EN
CALSCALE:GREGORIAN
METHOD:PUBLISH
BEGIN:VEVENT
UID:69e5fbd445916@usbands.org
SUMMARY:Halifax High School
DTSTART:20231007T085000
DTEND:20231007T182600
DTSTAMP:20260420T101132
LOCATION:Halifax\, PA
DESCRIPTION:Halifax High School
END:VEVENT
END:VCALENDAR
