BEGIN:VCALENDAR
VERSION:2.0
PRODID:-//ZContent.net//ZapCalLib 1.0//EN
CALSCALE:GREGORIAN
METHOD:PUBLISH
BEGIN:VEVENT
UID:69e5fbd175848@usbands.org
SUMMARY:Naugatuck High School (Rescheduled)
DTSTART:20231022T075000
DTEND:20231022T145100
DTSTAMP:20260420T101129
LOCATION:Naugatuck\, CT
DESCRIPTION:Naugatuck High School (Rescheduled)
END:VEVENT
END:VCALENDAR
