BEGIN:VCALENDAR
VERSION:2.0
PRODID:-//ZContent.net//ZapCalLib 1.0//EN
CALSCALE:GREGORIAN
METHOD:PUBLISH
BEGIN:VEVENT
UID:69e5fbd301f84@usbands.org
SUMMARY:Marple Newtown High School
DTSTART:20231007T145000
DTEND:20231007T192700
DTSTAMP:20260420T101131
LOCATION:Newtown Square\, PA
DESCRIPTION:Marple Newtown High School
END:VEVENT
END:VCALENDAR
