BEGIN:VCALENDAR
VERSION:2.0
PRODID:-//ZContent.net//ZapCalLib 1.0//EN
CALSCALE:GREGORIAN
METHOD:PUBLISH
BEGIN:VEVENT
UID:69e5fc1156a55@usbands.org
SUMMARY:Pennsylvania State Championships
DTSTART:20231021T090000
DTEND:20231021T190000
DTSTAMP:20260420T101233
LOCATION:Downingtown\, PA
DESCRIPTION:Pennsylvania State Championships
END:VEVENT
END:VCALENDAR
