BEGIN:VCALENDAR
VERSION:2.0
PRODID:-//ZContent.net//ZapCalLib 1.0//EN
CALSCALE:GREGORIAN
METHOD:PUBLISH
BEGIN:VEVENT
UID:69e5fbd42f198@usbands.org
SUMMARY:New York State Championships
DTSTART:20231022T090000
DTEND:20231022T150000
DTSTAMP:20260420T101132
LOCATION:Lindenhurst\, NY
DESCRIPTION:New York State Championships
END:VEVENT
END:VCALENDAR
