BEGIN:VCALENDAR
VERSION:2.0
PRODID:-//ZContent.net//ZapCalLib 1.0//EN
CALSCALE:GREGORIAN
METHOD:PUBLISH
BEGIN:VEVENT
UID:69e5fbb3657d1@usbands.org
SUMMARY:Burleson Regional
DTSTART:20231007T073000
DTEND:20231007T200000
DTSTAMP:20260420T101059
LOCATION:Burleson\, TX
DESCRIPTION:Burleson Regional
END:VEVENT
END:VCALENDAR
