BEGIN:VCALENDAR
VERSION:2.0
PRODID:-//ZContent.net//ZapCalLib 1.0//EN
CALSCALE:GREGORIAN
METHOD:PUBLISH
BEGIN:VEVENT
UID:69e5facbeaeb4@usbands.org
SUMMARY:Houston Regional
DTSTART:20230930T063000
DTEND:20230930T200000
DTSTAMP:20260420T100707
LOCATION:Webster\, TX
DESCRIPTION:Houston Regional
END:VEVENT
END:VCALENDAR
