BEGIN:VCALENDAR
VERSION:2.0
PRODID:-//ZContent.net//ZapCalLib 1.0//EN
CALSCALE:GREGORIAN
METHOD:PUBLISH
BEGIN:VEVENT
UID:69e5fbb54fe6b@usbands.org
SUMMARY:BMC Durfee High School
DTSTART:20231022T095000
DTEND:20231022T192600
DTSTAMP:20260420T101101
LOCATION:Fall River\, MA
DESCRIPTION:BMC Durfee High School
END:VEVENT
END:VCALENDAR
