BEGIN:VCALENDAR
VERSION:2.0
PRODID:-//ZContent.net//ZapCalLib 1.0//EN
CALSCALE:GREGORIAN
METHOD:PUBLISH
BEGIN:VEVENT
UID:69e63082968de@usbands.org
SUMMARY:Austin Regional
DTSTART:20231007T090000
DTEND:20231007T200000
DTSTAMP:20260420T135618
LOCATION:Buda\, TX
DESCRIPTION:Austin Regional
END:VEVENT
END:VCALENDAR
