BEGIN:VCALENDAR
VERSION:2.0
PRODID:-//ZContent.net//ZapCalLib 1.0//EN
CALSCALE:GREGORIAN
METHOD:PUBLISH
BEGIN:VEVENT
UID:69e5fbd3174e3@usbands.org
SUMMARY:Hill Country Regional
DTSTART:20231007T083000
DTEND:20231007T200000
DTSTAMP:20260420T101131
LOCATION:San Antonio\, TX
DESCRIPTION:Hill Country Regional
END:VEVENT
END:VCALENDAR
