BEGIN:VCALENDAR
VERSION:2.0
PRODID:-//ZContent.net//ZapCalLib 1.0//EN
CALSCALE:GREGORIAN
METHOD:PUBLISH
BEGIN:VEVENT
UID:69e5fbd7e8b2a@usbands.org
SUMMARY:Ludwig-Musser® Classic: Texas
DTSTART:20230930T060000
DTEND:20230930T200000
DTSTAMP:20260420T101135
LOCATION:Converse\, TX
DESCRIPTION:Ludwig-Musser® Classic: Texas
END:VEVENT
END:VCALENDAR
