BEGIN:VCALENDAR
VERSION:2.0
PRODID:-//ZContent.net//ZapCalLib 1.0//EN
CALSCALE:GREGORIAN
METHOD:PUBLISH
BEGIN:VEVENT
UID:69e5fbd35bab7@usbands.org
SUMMARY:Newtown High School
DTSTART:20231014T142000
DTEND:20231014T180000
DTSTAMP:20260420T101131
LOCATION:Newtown\, CT
DESCRIPTION:Newtown High School
END:VEVENT
END:VCALENDAR
