BEGIN:VCALENDAR
VERSION:2.0
PRODID:-//ZContent.net//ZapCalLib 1.0//EN
CALSCALE:GREGORIAN
METHOD:PUBLISH
BEGIN:VEVENT
UID:69e5fbd6e844f@usbands.org
SUMMARY:Ludwig-Musser® Classic
DTSTART:20231007T050000
DTEND:20231007T200000
DTSTAMP:20260420T101134
LOCATION:East Rutherford\, NJ
DESCRIPTION:Ludwig-Musser® Classic
END:VEVENT
END:VCALENDAR
