BEGIN:VCALENDAR
VERSION:2.0
PRODID:-//ZContent.net//ZapCalLib 1.0//EN
CALSCALE:GREGORIAN
METHOD:PUBLISH
BEGIN:VEVENT
UID:69e5fbb0e3384@usbands.org
SUMMARY:Ark-La-Tex Regional
DTSTART:20231021T100000
DTEND:20231021T070100
DTSTAMP:20260420T101056
LOCATION:Bossier City\, LA
DESCRIPTION:Ark-La-Tex Regional
END:VEVENT
END:VCALENDAR
