BEGIN:VCALENDAR
VERSION:2.0
PRODID:-//ZContent.net//ZapCalLib 1.0//EN
CALSCALE:GREGORIAN
METHOD:PUBLISH
BEGIN:VEVENT
UID:69e5fbd45c8ab@usbands.org
SUMMARY:North Warren High School
DTSTART:20231021T085000
DTEND:20231021T190000
DTSTAMP:20260420T101132
LOCATION:Blairstown\, NJ
DESCRIPTION:North Warren High School
END:VEVENT
END:VCALENDAR
