BEGIN:VCALENDAR
VERSION:2.0
PRODID:-//ZContent.net//ZapCalLib 1.0//EN
CALSCALE:GREGORIAN
METHOD:PUBLISH
BEGIN:VEVENT
UID:69e5fbb3cdd0a@usbands.org
SUMMARY:Stoughton High School
DTSTART:20231021T162000
DTEND:20231021T180000
DTSTAMP:20260420T101059
LOCATION:Stoughton\, MA
DESCRIPTION:Stoughton High School
END:VEVENT
END:VCALENDAR
