BEGIN:VCALENDAR
VERSION:2.0
PRODID:-//ZContent.net//ZapCalLib 1.0//EN
CALSCALE:GREGORIAN
METHOD:PUBLISH
BEGIN:VEVENT
UID:69e5fbd29ce90@usbands.org
SUMMARY:Huntingtown High School
DTSTART:20230930T115000
DTEND:20230930T190000
DTSTAMP:20260420T101130
LOCATION:Huntingtown\, MD
DESCRIPTION:Huntingtown High School
END:VEVENT
END:VCALENDAR
