BEGIN:VCALENDAR
VERSION:2.0
PRODID:-//ZContent.net//ZapCalLib 1.0//EN
CALSCALE:GREGORIAN
METHOD:PUBLISH
BEGIN:VEVENT
UID:69e5fbd1da376@usbands.org
SUMMARY:Abington High School
DTSTART:20231028T145000
DTEND:20231028T190000
DTSTAMP:20260420T101129
LOCATION:Abington\, PA
DESCRIPTION:Abington High School
END:VEVENT
END:VCALENDAR
