BEGIN:VCALENDAR
VERSION:2.0
PRODID:-//ZContent.net//ZapCalLib 1.0//EN
CALSCALE:GREGORIAN
METHOD:PUBLISH
BEGIN:VEVENT
UID:69e5fbb244da4@usbands.org
SUMMARY:STATS Mideast: North Carolina
DTSTART:20231111T110000
DTEND:20231111T190100
DTSTAMP:20260420T101058
LOCATION:Raleigh\, NC
DESCRIPTION:STATS Mideast: North Carolina
END:VEVENT
END:VCALENDAR
