BEGIN:VCALENDAR
VERSION:2.0
PRODID:-//ZContent.net//ZapCalLib 1.0//EN
CALSCALE:GREGORIAN
METHOD:PUBLISH
BEGIN:VEVENT
UID:69e5fbd2151a6@usbands.org
SUMMARY:STATS Grand Championship
DTSTART:20231104T130000
DTEND:20231104T190000
DTSTAMP:20260420T101130
LOCATION:Cedar Hill\, TX
DESCRIPTION:STATS Grand Championship
END:VEVENT
END:VCALENDAR
