BEGIN:VCALENDAR
VERSION:2.0
PRODID:-//ZContent.net//ZapCalLib 1.0//EN
CALSCALE:GREGORIAN
METHOD:PUBLISH
BEGIN:VEVENT
UID:69e5fbd60a1b3@usbands.org
SUMMARY:USBands A Class National Championships (III A\, IV A)
DTSTART:20231105T070000
DTEND:20231105T180100
DTSTAMP:20260420T101134
LOCATION:Allentown\, PA
DESCRIPTION:USBands A Class National Championships (III A\, IV A)
END:VEVENT
END:VCALENDAR
