BEGIN:VCALENDAR
VERSION:2.0
PRODID:-//ZContent.net//ZapCalLib 1.0//EN
CALSCALE:GREGORIAN
METHOD:PUBLISH
BEGIN:VEVENT
UID:69e6131cee2ac@usbands.org
SUMMARY:New Jersey State Championships (II A\, V A\, I O\, II O\, V O)
DTSTART:20231028T090000
DTEND:20231028T190000
DTSTAMP:20260420T115052
LOCATION:South Brunswick\, NJ
DESCRIPTION:New Jersey State Championships (II A\, V A\, I O\, II O\, V O)
END:VEVENT
END:VCALENDAR
