BEGIN:VCALENDAR
VERSION:2.0
PRODID:-//ZContent.net//ZapCalLib 1.0//EN
CALSCALE:GREGORIAN
METHOD:PUBLISH
BEGIN:VEVENT
UID:69e5fbd22d9f0@usbands.org
SUMMARY:New England States Championships ( I A\, II A)
DTSTART:20231028T140000
DTEND:20231028T190000
DTSTAMP:20260420T101130
LOCATION:Vernon\, CT
DESCRIPTION:New England States Championships ( I A\, II A)
END:VEVENT
END:VCALENDAR
