BEGIN:VCALENDAR
VERSION:2.0
PRODID:-//ZContent.net//ZapCalLib 1.0//EN
CALSCALE:GREGORIAN
METHOD:PUBLISH
BEGIN:VEVENT
UID:69e5fbb17fcc1@usbands.org
SUMMARY:Minico High School
DTSTART:20230930T105000
DTEND:20230930T173400
DTSTAMP:20260420T101057
LOCATION:Rupert\, ID
DESCRIPTION:Minico High School
END:VEVENT
END:VCALENDAR
