BEGIN:VCALENDAR
VERSION:2.0
PRODID:-//ZContent.net//ZapCalLib 1.0//EN
CALSCALE:GREGORIAN
METHOD:PUBLISH
BEGIN:VEVENT
UID:69e5e5196a843@usbands.org
SUMMARY:Quad States Regional Championships
DTSTART:20241019T090000
DTEND:20241019T180000
DTSTAMP:20260420T083433
LOCATION:Vermillion\, SD
DESCRIPTION:Quad States Regional Championships
END:VEVENT
END:VCALENDAR
