BEGIN:VCALENDAR
VERSION:2.0
PRODID:-//ZContent.net//ZapCalLib 1.0//EN
CALSCALE:GREGORIAN
METHOD:PUBLISH
BEGIN:VEVENT
UID:69e88a6baef29@usbands.org
SUMMARY:A Class National Championships (IIA  & III A)
DTSTART:20241109T070000
DTEND:20241109T200000
DTSTAMP:20260422T084427
LOCATION:Allentown\, PA
DESCRIPTION:A Class National Championships (IIA  & III A)
END:VEVENT
END:VCALENDAR
