BEGIN:VCALENDAR
VERSION:2.0
PRODID:-//ZContent.net//ZapCalLib 1.0//EN
CALSCALE:GREGORIAN
METHOD:PUBLISH
BEGIN:VEVENT
UID:69e610ce7f24a@usbands.org
SUMMARY:West Milford High School
DTSTART:20240217T135000
DTEND:20240217T190000
DTSTAMP:20260420T114102
LOCATION:West Milford\, NJ
DESCRIPTION:West Milford High School
END:VEVENT
END:VCALENDAR
