BEGIN:VCALENDAR
VERSION:2.0
PRODID:-//ZContent.net//ZapCalLib 1.0//EN
CALSCALE:GREGORIAN
METHOD:PUBLISH
BEGIN:VEVENT
UID:69e610cc7da7b@usbands.org
SUMMARY:John F Kennedy High School
DTSTART:20240224T125000
DTEND:20240224T180000
DTSTAMP:20260420T114100
LOCATION:Woodbridge Township\, NJ
DESCRIPTION:John F Kennedy High School
END:VEVENT
END:VCALENDAR
