BEGIN:VCALENDAR
VERSION:2.0
PRODID:-//ZContent.net//ZapCalLib 1.0//EN
CALSCALE:GREGORIAN
METHOD:PUBLISH
BEGIN:VEVENT
UID:69e610cca9698@usbands.org
SUMMARY:Wayne Valley High School
DTSTART:20240302T125000
DTEND:20240302T210000
DTSTAMP:20260420T114100
LOCATION:Wayne\, NJ
DESCRIPTION:Wayne Valley High School
END:VEVENT
END:VCALENDAR
