BEGIN:VCALENDAR
VERSION:2.0
PRODID:-//ZContent.net//ZapCalLib 1.0//EN
CALSCALE:GREGORIAN
METHOD:PUBLISH
BEGIN:VEVENT
UID:69e610cc9400d@usbands.org
SUMMARY:Nottingham High School
DTSTART:20240309T130000
DTEND:20240309T210000
DTSTAMP:20260420T114100
LOCATION:Hamilton Township\, NJ
DESCRIPTION:Nottingham High School
END:VEVENT
END:VCALENDAR
