BEGIN:VCALENDAR
VERSION:2.0
PRODID:-//ZContent.net//ZapCalLib 1.0//EN
CALSCALE:GREGORIAN
METHOD:PUBLISH
BEGIN:VEVENT
UID:69e610c9c990e@usbands.org
SUMMARY:Fair Lawn High School
DTSTART:20240406T134500
DTEND:20240406T210000
DTSTAMP:20260420T114057
LOCATION:Fair Lawn\, NJ
DESCRIPTION:Fair Lawn High School
END:VEVENT
END:VCALENDAR
